Workbook

Sheet Data
A1: Department/Site | B1: Team | C1: Manufacturer | D1: Equipment Type | E1: Model # | F1: Serial # | G1: Equipment ID | I1: Current Max Batch ID | K1: TESTCODE | L1: TESTNO | N1: TESTCODE | O1: TESTNO | P1: QC | Q1: Sorter
A2: NASHVILLE | B2: Molecular Biology | C2: Illumina | D2: Whole genome sequencer | E2: MiSeq i100 | F2: SL00213 | G2: MiSeq i100 SL00213 | I2: 1391 | K2: 3015 | L2: SARS-CoV-2 WGS | N2: 3015 | O2: SARS-CoV-2 WGS | P2: A Lineage PC1 | Q2: 1
K3: 3023 | L3: Candida auris Sequencing | N3: 3015 | O3: SARS-CoV-2 WGS | P3: A Lineage PC2 | Q3: 2
A4: NASHVILLE | B4: Molecular Biology | C4: Illumina | D4: Whole genome sequencer | E4: MiSeq i100 | F4: SL00218 | G4: MiSeq i100 SL00218 | K4: 3028 | L4: PulseNet Bacterial WGS | N4: 3015 | O4: SARS-CoV-2 WGS | P4: B.1.1.7 Lineage PC1 | Q4: 3
K5: 2955 | L5: WGS | N5: 3015 | O5: SARS-CoV-2 WGS | P5: B.1.1.7 Lineage PC2 | Q5: 4
A6: NASHVILLE | B6: Molecular Biology | C6: Illumina | D6: Whole genome sequencer | E6: MiSeq i100 | F6: SL00221 | G6: MiSeq i100 SL00221 | N6: 3015 | O6: SARS-CoV-2 WGS | P6: NON-SC2 Lineage NC1 | Q6: 5
N7: 3015 | O7: SARS-CoV-2 WGS | P7: NON-SC2 Lineage NC2 | Q7: 6
A8: NASHVILLE | B8: Molecular Biology | C8: Illumina | D8: Whole genome sequencer | E8: MiSeq i100 | F8: SL00226 | G8: MiSeq i100 SL00226
N9: 3023 | O9: Candida auris Sequencing | P9: C auris PC | Q9: 1
N10: 3023 | O10: Candida auris Sequencing | P10: Non C auris NC | Q10: 2
N12: 3028 | O12: PulseNet Bacterial WGS | P12: PosCtrl | Q12: 1
N13: 3028 | O13: PulseNet Bacterial WGS | P13: NegCtrl | Q13: 2

Sheet Equipment
A1: Department/Site | B1: Team | C1: Manufacturer | D1: Equipment Type | E1: Model # | F1: Serial # | G1: Equipment ID | I1: EQUIPMENT CONCAT
A2: NASHVILLE | B2: Molecular Biology | C2: Illumina | D2: Whole genome sequencer | E2: MiSeq i100 | F2: SL00213 | G2: MiSeq i100 SL00213 | I2: =IF(ISBLANK(A2), "", _xlfn.CONCAT(_xlfn._LONGTEXT("insert into EQUIPMENT (MAINSTATUS, ORIGSTS, SCHEDCODE, BAUDRATE, DATABITS, STOPBITS, HOSTQUERY, PARITY, ISEMPOWER, COM_PORT, CLIENTSEL, STARDOCSEL, DEPT, SERVGRP, MFG, EQTYPE, MODELNO, SERIALNO, EQID) values ('In Service', 'N', '0', '1200', '8', '1', 'N',"," 'None', 'N', 'COM1', 'N', 'N', '")&A2&"', '"&$B2&"', '"&$C2&"', '"&$D2&"', '"&$E2&"', '"&$F2&"', '"&$G2&"')")) -> insert into EQUIPMENT (MAINSTATUS, ORIGSTS, SCHEDCODE, BAUDRATE, DATABITS, STOPBITS, HOSTQUERY, PARITY, ISEMPOWER, COM_PORT, CLIENTSEL, STARDOCSEL, DEPT, SERVGRP, MFG, EQTYPE, MODELNO, SERIALNO, EQID) values ('In Service', 'N', '0', '1200', '8', '1', 'N', 'None', 'N', 'COM1', 'N', 'N', 'NASHVILLE', 'Molecular Biology', 'Illumina', 'Whole genome sequencer', 'MiSeq i100', 'SL00213', 'MiSeq i100 SL00213')
I3: =IF(ISBLANK(A3), "", _xlfn.CONCAT(_xlfn._LONGTEXT("insert into EQUIPMENT (MAINSTATUS, ORIGSTS, SCHEDCODE, BAUDRATE, DATABITS, STOPBITS, HOSTQUERY, PARITY, ISEMPOWER, COM_PORT, CLIENTSEL, STARDOCSEL, DEPT, SERVGRP, MFG, EQTYPE, MODELNO, SERIALNO, EQID) values ('In Service', 'N', '0', '1200', '8', '1', 'N',"," 'None', 'N', 'COM1', 'N', 'N', '")&A3&"', '"&$B3&"', '"&$C3&"', '"&$D3&"', '"&$E3&"', '"&$F3&"', '"&$G3&"')"))
I4: =IF(ISBLANK(A4), "", _xlfn.CONCAT(_xlfn._LONGTEXT("insert into EQUIPMENT (MAINSTATUS, ORIGSTS, SCHEDCODE, BAUDRATE, DATABITS, STOPBITS, HOSTQUERY, PARITY, ISEMPOWER, COM_PORT, CLIENTSEL, STARDOCSEL, DEPT, SERVGRP, MFG, EQTYPE, MODELNO, SERIALNO, EQID) values ('In Service', 'N', '0', '1200', '8', '1', 'N',"," 'None', 'N', 'COM1', 'N', 'N', '")&A4&"', '"&$B4&"', '"&$C4&"', '"&$D4&"', '"&$E4&"', '"&$F4&"', '"&$G4&"')"))
I5: =IF(ISBLANK(A5), "", _xlfn.CONCAT(_xlfn._LONGTEXT("insert into EQUIPMENT (MAINSTATUS, ORIGSTS, SCHEDCODE, BAUDRATE, DATABITS, STOPBITS, HOSTQUERY, PARITY, ISEMPOWER, COM_PORT, CLIENTSEL, STARDOCSEL, DEPT, SERVGRP, MFG, EQTYPE, MODELNO, SERIALNO, EQID) values ('In Service', 'N', '0', '1200', '8', '1', 'N',"," 'None', 'N', 'COM1', 'N', 'N', '")&A5&"', '"&$B5&"', '"&$C5&"', '"&$D5&"', '"&$E5&"', '"&$F5&"', '"&$G5&"')"))

Sheet Batches
A1: Batch ID | B1: Department/Site | C1: Team | D1: Manufacturer | E1: Equipment Type | F1: Model # | G1: Serial # | H1: Equipment ID | I1: TESTCODE | J1: TESTNO | L1: TEST EQUIPMENT CONCAT | M1: LOAD LIST CONCAT | N1: EQUIPMENT BATCHES CONCAT
A2: =IF(ISBLANK(Data!$I$2), "", Data!$I$2+1) -> 1392 | B2: NASHVILLE | C2: Molecular Biology | D2: Illumina | E2: Whole genome sequencer | F2: MiSeq i100 | G2: SL00213 | H2: MiSeq i100 SL00213 | I2: 3015 | J2: SARS-CoV-2 WGS | L2: =IF(ISBLANK(B2), "", _xlfn.CONCAT("insert into EQUIP_TESTS (ORIGSTS, METHOD, TESTCODE, EQID, BATCH_ID) values ('N', 'Default', '"&I2&"', '"&H2&"', '"&A2&"')")) -> insert into EQUIP_TESTS (ORIGSTS, METHOD, TESTCODE, EQID, BATCH_ID) values ('N', 'Default', '3015', 'MiSeq i100 SL00213', '1392') | M2: =IF(ISBLANK(B2), "", _xlfn.CONCAT("insert into WORKSHEETS (ORIGSTS, WSTYPE, ACTIONID, STATUS, REPORTNAME, BATCH_ID, EQID) values ('N', 'Report', 'N/A', 'Active', 'TDHS_LOADLIST.TDHS_RUNWORKSHEET', '"&A2&"', '"&H2&"')")) -> insert into WORKSHEETS (ORIGSTS, WSTYPE, ACTIONID, STATUS, REPORTNAME, BATCH_ID, EQID) values ('N', 'Report', 'N/A', 'Active', 'TDHS_LOADLIST.TDHS_RUNWORKSHEET', '1392', 'MiSeq i100 SL00213') | N2: =IF(ISBLANK(B2), "", _xlfn.CONCAT("insert into EQUIPMENT_BATCHES (ORIGSTS, STATUS, METHOD, BATCH_ID, EQID, BATCH_NAME, BATCH_DESCRIPTION) values ('N', 'Active', 'Default', '"&A2&"', '"&H2&"', '"&J2&"', '"&_xlfn.CONCAT(J2&" Default Batch Template")&"')")) -> insert into EQUIPMENT_BATCHES (ORIGSTS, STATUS, METHOD, BATCH_ID, EQID, BATCH_NAME, BATCH_DESCRIPTION) values ('N', 'Active', 'Default', '1392', 'MiSeq i100 SL00213', 'SARS-CoV-2 WGS', 'SARS-CoV-2 WGS Default Batch Template')
A3: =IF(ISBLANK(A2), "", A2+1) -> 1393 | B3: NASHVILLE | C3: Molecular Biology | D3: Illumina | E3: Whole genome sequencer | F3: MiSeq i100 | G3: SL00213 | H3: MiSeq i100 SL00213 | I3: 3023 | J3: Candida auris Sequencing | L3: =IF(ISBLANK(B3), "", _xlfn.CONCAT("insert into EQUIP_TESTS (ORIGSTS, METHOD, TESTCODE, EQID, BATCH_ID) values ('N', 'Default', '"&I3&"', '"&H3&"', '"&A3&"')")) -> insert into EQUIP_TESTS (ORIGSTS, METHOD, TESTCODE, EQID, BATCH_ID) values ('N', 'Default', '3023', 'MiSeq i100 SL00213', '1393') | M3: =IF(ISBLANK(B3), "", _xlfn.CONCAT("insert into WORKSHEETS (ORIGSTS, WSTYPE, ACTIONID, STATUS, REPORTNAME, BATCH_ID, EQID) values ('N', 'Report', 'N/A', 'Active', 'TDHS_LOADLIST.TDHS_RUNWORKSHEET', '"&A3&"', '"&H3&"')")) -> insert into WORKSHEETS (ORIGSTS, WSTYPE, ACTIONID, STATUS, REPORTNAME, BATCH_ID, EQID) values ('N', 'Report', 'N/A', 'Active', 'TDHS_LOADLIST.TDHS_RUNWORKSHEET', '1393', 'MiSeq i100 SL00213') | N3: =IF(ISBLANK(B3), "", _xlfn.CONCAT("insert into EQUIPMENT_BATCHES (ORIGSTS, STATUS, METHOD, BATCH_ID, EQID, BATCH_NAME, BATCH_DESCRIPTION) values ('N', 'Active', 'Default', '"&A3&"', '"&H3&"', '"&J3&"', '"&_xlfn.CONCAT(J3&" Default Batch Template")&"')")) -> insert into EQUIPMENT_BATCHES (ORIGSTS, STATUS, METHOD, BATCH_ID, EQID, BATCH_NAME, BATCH_DESCRIPTION) values ('N', 'Active', 'Default', '1393', 'MiSeq i100 SL00213', 'Candida auris Sequencing', 'Candida auris Sequencing Default Batch Template')
A4: =IF(ISBLANK(A3), "", A3+1) -> 1394 | B4: NASHVILLE | C4: Molecular Biology | D4: Illumina | E4: Whole genome sequencer | F4: MiSeq i100 | G4: SL00213 | H4: MiSeq i100 SL00213 | I4: 3028 | J4: PulseNet Bacterial WGS | L4: =IF(ISBLANK(B4), "", _xlfn.CONCAT("insert into EQUIP_TESTS (ORIGSTS, METHOD, TESTCODE, EQID, BATCH_ID) values ('N', 'Default', '"&I4&"', '"&H4&"', '"&A4&"')")) -> insert into EQUIP_TESTS (ORIGSTS, METHOD, TESTCODE, EQID, BATCH_ID) values ('N', 'Default', '3028', 'MiSeq i100 SL00213', '1394') | M4: =IF(ISBLANK(B4), "", _xlfn.CONCAT("insert into WORKSHEETS (ORIGSTS, WSTYPE, ACTIONID, STATUS, REPORTNAME, BATCH_ID, EQID) values ('N', 'Report', 'N/A', 'Active', 'TDHS_LOADLIST.TDHS_RUNWORKSHEET', '"&A4&"', '"&H4&"')")) -> insert into WORKSHEETS (ORIGSTS, WSTYPE, ACTIONID, STATUS, REPORTNAME, BATCH_ID, EQID) values ('N', 'Report', 'N/A', 'Active', 'TDHS_LOADLIST.TDHS_RUNWORKSHEET', '1394', 'MiSeq i100 SL00213') | N4: =IF(ISBLANK(B4), "", _xlfn.CONCAT("insert into EQUIPMENT_BATCHES (ORIGSTS, STATUS, METHOD, BATCH_ID, EQID, BATCH_NAME, BATCH_DESCRIPTION) values ('N', 'Active', 'Default', '"&A4&"', '"&H4&"', '"&J4&"', '"&_xlfn.CONCAT(J4&" Default Batch Template")&"')")) -> insert into EQUIPMENT_BATCHES (ORIGSTS, STATUS, METHOD, BATCH_ID, EQID, BATCH_NAME, BATCH_DESCRIPTION) values ('N', 'Active', 'Default', '1394', 'MiSeq i100 SL00213', 'PulseNet Bacterial WGS', 'PulseNet Bacterial WGS Default Batch Template')
A5: =IF(ISBLANK(A4), "", A4+1) -> 1395 | B5: NASHVILLE | C5: Molecular Biology | D5: Illumina | E5: Whole genome sequencer | F5: MiSeq i100 | G5: SL00213 | H5: MiSeq i100 SL00213 | I5: 2955 | J5: WGS | L5: =IF(ISBLANK(B5), "", _xlfn.CONCAT("insert into EQUIP_TESTS (ORIGSTS, METHOD, TESTCODE, EQID, BATCH_ID) values ('N', 'Default', '"&I5&"', '"&H5&"', '"&A5&"')")) -> insert into EQUIP_TESTS (ORIGSTS, METHOD, TESTCODE, EQID, BATCH_ID) values ('N', 'Default', '2955', 'MiSeq i100 SL00213', '1395') | M5: =IF(ISBLANK(B5), "", _xlfn.CONCAT("insert into WORKSHEETS (ORIGSTS, WSTYPE, ACTIONID, STATUS, REPORTNAME, BATCH_ID, EQID) values ('N', 'Report', 'N/A', 'Active', 'TDHS_LOADLIST.TDHS_RUNWORKSHEET', '"&A5&"', '"&H5&"')")) -> insert into WORKSHEETS (ORIGSTS, WSTYPE, ACTIONID, STATUS, REPORTNAME, BATCH_ID, EQID) values ('N', 'Report', 'N/A', 'Active', 'TDHS_LOADLIST.TDHS_RUNWORKSHEET', '1395', 'MiSeq i100 SL00213') | N5: =IF(ISBLANK(B5), "", _xlfn.CONCAT("insert into EQUIPMENT_BATCHES (ORIGSTS, STATUS, METHOD, BATCH_ID, EQID, BATCH_NAME, BATCH_DESCRIPTION) values ('N', 'Active', 'Default', '"&A5&"', '"&H5&"', '"&J5&"', '"&_xlfn.CONCAT(J5&" Default Batch Template")&"')")) -> insert into EQUIPMENT_BATCHES (ORIGSTS, STATUS, METHOD, BATCH_ID, EQID, BATCH_NAME, BATCH_DESCRIPTION) values ('N', 'Active', 'Default', '1395', 'MiSeq i100 SL00213', 'WGS', 'WGS Default Batch Template')
L6: =IF(ISBLANK(B6), "", _xlfn.CONCAT("insert into EQUIP_TESTS (ORIGSTS, METHOD, TESTCODE, EQID, BATCH_ID) values ('N', 'Default', '"&I6&"', '"&H6&"', '"&A6&"')")) | M6: =IF(ISBLANK(B6), "", _xlfn.CONCAT("insert into WORKSHEETS (ORIGSTS, WSTYPE, ACTIONID, STATUS, REPORTNAME, BATCH_ID, EQID) values ('N', 'Report', 'N/A', 'Active', 'TDHS_LOADLIST.TDHS_RUNWORKSHEET', '"&A6&"', '"&H6&"')")) | N6: =IF(ISBLANK(B6), "", _xlfn.CONCAT("insert into EQUIPMENT_BATCHES (ORIGSTS, STATUS, METHOD, BATCH_ID, EQID, BATCH_NAME, BATCH_DESCRIPTION) values ('N', 'Active', 'Default', '"&A6&"', '"&H6&"', '"&J6&"', '"&_xlfn.CONCAT(J6&" Default Batch Template")&"')"))
L7: =IF(ISBLANK(B7), "", _xlfn.CONCAT("insert into EQUIP_TESTS (ORIGSTS, METHOD, TESTCODE, EQID, BATCH_ID) values ('N', 'Default', '"&I7&"', '"&H7&"', '"&A7&"')")) | M7: =IF(ISBLANK(B7), "", _xlfn.CONCAT("insert into WORKSHEETS (ORIGSTS, WSTYPE, ACTIONID, STATUS, REPORTNAME, BATCH_ID, EQID) values ('N', 'Report', 'N/A', 'Active', 'TDHS_LOADLIST.TDHS_RUNWORKSHEET', '"&A7&"', '"&H7&"')")) | N7: =IF(ISBLANK(B7), "", _xlfn.CONCAT("insert into EQUIPMENT_BATCHES (ORIGSTS, STATUS, METHOD, BATCH_ID, EQID, BATCH_NAME, BATCH_DESCRIPTION) values ('N', 'Active', 'Default', '"&A7&"', '"&H7&"', '"&J7&"', '"&_xlfn.CONCAT(J7&" Default Batch Template")&"')"))
L8: =IF(ISBLANK(B8), "", _xlfn.CONCAT("insert into EQUIP_TESTS (ORIGSTS, METHOD, TESTCODE, EQID, BATCH_ID) values ('N', 'Default', '"&I8&"', '"&H8&"', '"&A8&"')")) | M8: =IF(ISBLANK(B8), "", _xlfn.CONCAT("insert into WORKSHEETS (ORIGSTS, WSTYPE, ACTIONID, STATUS, REPORTNAME, BATCH_ID, EQID) values ('N', 'Report', 'N/A', 'Active', 'TDHS_LOADLIST.TDHS_RUNWORKSHEET', '"&A8&"', '"&H8&"')")) | N8: =IF(ISBLANK(B8), "", _xlfn.CONCAT("insert into EQUIPMENT_BATCHES (ORIGSTS, STATUS, METHOD, BATCH_ID, EQID, BATCH_NAME, BATCH_DESCRIPTION) values ('N', 'Active', 'Default', '"&A8&"', '"&H8&"', '"&J8&"', '"&_xlfn.CONCAT(J8&" Default Batch Template")&"')"))
L9: =IF(ISBLANK(B9), "", _xlfn.CONCAT("insert into EQUIP_TESTS (ORIGSTS, METHOD, TESTCODE, EQID, BATCH_ID) values ('N', 'Default', '"&I9&"', '"&H9&"', '"&A9&"')")) | M9: =IF(ISBLANK(B9), "", _xlfn.CONCAT("insert into WORKSHEETS (ORIGSTS, WSTYPE, ACTIONID, STATUS, REPORTNAME, BATCH_ID, EQID) values ('N', 'Report', 'N/A', 'Active', 'TDHS_LOADLIST.TDHS_RUNWORKSHEET', '"&A9&"', '"&H9&"')")) | N9: =IF(ISBLANK(B9), "", _xlfn.CONCAT("insert into EQUIPMENT_BATCHES (ORIGSTS, STATUS, METHOD, BATCH_ID, EQID, BATCH_NAME, BATCH_DESCRIPTION) values ('N', 'Active', 'Default', '"&A9&"', '"&H9&"', '"&J9&"', '"&_xlfn.CONCAT(J9&" Default Batch Template")&"')"))
L10: =IF(ISBLANK(B10), "", _xlfn.CONCAT("insert into EQUIP_TESTS (ORIGSTS, METHOD, TESTCODE, EQID, BATCH_ID) values ('N', 'Default', '"&I10&"', '"&H10&"', '"&A10&"')")) | M10: =IF(ISBLANK(B10), "", _xlfn.CONCAT("insert into WORKSHEETS (ORIGSTS, WSTYPE, ACTIONID, STATUS, REPORTNAME, BATCH_ID, EQID) values ('N', 'Report', 'N/A', 'Active', 'TDHS_LOADLIST.TDHS_RUNWORKSHEET', '"&A10&"', '"&H10&"')")) | N10: =IF(ISBLANK(B10), "", _xlfn.CONCAT("insert into EQUIPMENT_BATCHES (ORIGSTS, STATUS, METHOD, BATCH_ID, EQID, BATCH_NAME, BATCH_DESCRIPTION) values ('N', 'Active', 'Default', '"&A10&"', '"&H10&"', '"&J10&"', '"&_xlfn.CONCAT(J10&" Default Batch Template")&"')"))
L11: =IF(ISBLANK(B11), "", _xlfn.CONCAT("insert into EQUIP_TESTS (ORIGSTS, METHOD, TESTCODE, EQID, BATCH_ID) values ('N', 'Default', '"&I11&"', '"&H11&"', '"&A11&"')")) | M11: =IF(ISBLANK(B11), "", _xlfn.CONCAT("insert into WORKSHEETS (ORIGSTS, WSTYPE, ACTIONID, STATUS, REPORTNAME, BATCH_ID, EQID) values ('N', 'Report', 'N/A', 'Active', 'TDHS_LOADLIST.TDHS_RUNWORKSHEET', '"&A11&"', '"&H11&"')")) | N11: =IF(ISBLANK(B11), "", _xlfn.CONCAT("insert into EQUIPMENT_BATCHES (ORIGSTS, STATUS, METHOD, BATCH_ID, EQID, BATCH_NAME, BATCH_DESCRIPTION) values ('N', 'Active', 'Default', '"&A11&"', '"&H11&"', '"&J11&"', '"&_xlfn.CONCAT(J11&" Default Batch Template")&"')"))
L12: =IF(ISBLANK(B12), "", _xlfn.CONCAT("insert into EQUIP_TESTS (ORIGSTS, METHOD, TESTCODE, EQID, BATCH_ID) values ('N', 'Default', '"&I12&"', '"&H12&"', '"&A12&"')")) | M12: =IF(ISBLANK(B12), "", _xlfn.CONCAT("insert into WORKSHEETS (ORIGSTS, WSTYPE, ACTIONID, STATUS, REPORTNAME, BATCH_ID, EQID) values ('N', 'Report', 'N/A', 'Active', 'TDHS_LOADLIST.TDHS_RUNWORKSHEET', '"&A12&"', '"&H12&"')")) | N12: =IF(ISBLANK(B12), "", _xlfn.CONCAT("insert into EQUIPMENT_BATCHES (ORIGSTS, STATUS, METHOD, BATCH_ID, EQID, BATCH_NAME, BATCH_DESCRIPTION) values ('N', 'Active', 'Default', '"&A12&"', '"&H12&"', '"&J12&"', '"&_xlfn.CONCAT(J12&" Default Batch Template")&"')"))
L13: =IF(ISBLANK(B13), "", _xlfn.CONCAT("insert into EQUIP_TESTS (ORIGSTS, METHOD, TESTCODE, EQID, BATCH_ID) values ('N', 'Default', '"&I13&"', '"&H13&"', '"&A13&"')")) | M13: =IF(ISBLANK(B13), "", _xlfn.CONCAT("insert into WORKSHEETS (ORIGSTS, WSTYPE, ACTIONID, STATUS, REPORTNAME, BATCH_ID, EQID) values ('N', 'Report', 'N/A', 'Active', 'TDHS_LOADLIST.TDHS_RUNWORKSHEET', '"&A13&"', '"&H13&"')")) | N13: =IF(ISBLANK(B13), "", _xlfn.CONCAT("insert into EQUIPMENT_BATCHES (ORIGSTS, STATUS, METHOD, BATCH_ID, EQID, BATCH_NAME, BATCH_DESCRIPTION) values ('N', 'Active', 'Default', '"&A13&"', '"&H13&"', '"&J13&"', '"&_xlfn.CONCAT(J13&" Default Batch Template")&"')"))
L14: =IF(ISBLANK(B14), "", _xlfn.CONCAT("insert into EQUIP_TESTS (ORIGSTS, METHOD, TESTCODE, EQID, BATCH_ID) values ('N', 'Default', '"&I14&"', '"&H14&"', '"&A14&"')")) | M14: =IF(ISBLANK(B14), "", _xlfn.CONCAT("insert into WORKSHEETS (ORIGSTS, WSTYPE, ACTIONID, STATUS, REPORTNAME, BATCH_ID, EQID) values ('N', 'Report', 'N/A', 'Active', 'TDHS_LOADLIST.TDHS_RUNWORKSHEET', '"&A14&"', '"&H14&"')")) | N14: =IF(ISBLANK(B14), "", _xlfn.CONCAT("insert into EQUIPMENT_BATCHES (ORIGSTS, STATUS, METHOD, BATCH_ID, EQID, BATCH_NAME, BATCH_DESCRIPTION) values ('N', 'Active', 'Default', '"&A14&"', '"&H14&"', '"&J14&"', '"&_xlfn.CONCAT(J14&" Default Batch Template")&"')"))
L15: =IF(ISBLANK(B15), "", _xlfn.CONCAT("insert into EQUIP_TESTS (ORIGSTS, METHOD, TESTCODE, EQID, BATCH_ID) values ('N', 'Default', '"&I15&"', '"&H15&"', '"&A15&"')")) | M15: =IF(ISBLANK(B15), "", _xlfn.CONCAT("insert into WORKSHEETS (ORIGSTS, WSTYPE, ACTIONID, STATUS, REPORTNAME, BATCH_ID, EQID) values ('N', 'Report', 'N/A', 'Active', 'TDHS_LOADLIST.TDHS_RUNWORKSHEET', '"&A15&"', '"&H15&"')")) | N15: =IF(ISBLANK(B15), "", _xlfn.CONCAT("insert into EQUIPMENT_BATCHES (ORIGSTS, STATUS, METHOD, BATCH_ID, EQID, BATCH_NAME, BATCH_DESCRIPTION) values ('N', 'Active', 'Default', '"&A15&"', '"&H15&"', '"&J15&"', '"&_xlfn.CONCAT(J15&" Default Batch Template")&"')"))
L16: =IF(ISBLANK(B16), "", _xlfn.CONCAT("insert into EQUIP_TESTS (ORIGSTS, METHOD, TESTCODE, EQID, BATCH_ID) values ('N', 'Default', '"&I16&"', '"&H16&"', '"&A16&"')")) | M16: =IF(ISBLANK(B16), "", _xlfn.CONCAT("insert into WORKSHEETS (ORIGSTS, WSTYPE, ACTIONID, STATUS, REPORTNAME, BATCH_ID, EQID) values ('N', 'Report', 'N/A', 'Active', 'TDHS_LOADLIST.TDHS_RUNWORKSHEET', '"&A16&"', '"&H16&"')")) | N16: =IF(ISBLANK(B16), "", _xlfn.CONCAT("insert into EQUIPMENT_BATCHES (ORIGSTS, STATUS, METHOD, BATCH_ID, EQID, BATCH_NAME, BATCH_DESCRIPTION) values ('N', 'Active', 'Default', '"&A16&"', '"&H16&"', '"&J16&"', '"&_xlfn.CONCAT(J16&" Default Batch Template")&"')"))
L17: =IF(ISBLANK(B17), "", _xlfn.CONCAT("insert into EQUIP_TESTS (ORIGSTS, METHOD, TESTCODE, EQID, BATCH_ID) values ('N', 'Default', '"&I17&"', '"&H17&"', '"&A17&"')")) | M17: =IF(ISBLANK(B17), "", _xlfn.CONCAT("insert into WORKSHEETS (ORIGSTS, WSTYPE, ACTIONID, STATUS, REPORTNAME, BATCH_ID, EQID) values ('N', 'Report', 'N/A', 'Active', 'TDHS_LOADLIST.TDHS_RUNWORKSHEET', '"&A17&"', '"&H17&"')")) | N17: =IF(ISBLANK(B17), "", _xlfn.CONCAT("insert into EQUIPMENT_BATCHES (ORIGSTS, STATUS, METHOD, BATCH_ID, EQID, BATCH_NAME, BATCH_DESCRIPTION) values ('N', 'Active', 'Default', '"&A17&"', '"&H17&"', '"&J17&"', '"&_xlfn.CONCAT(J17&" Default Batch Template")&"')"))

Sheet QC
A1: Batch ID | B1: Department/Site | C1: Team | D1: Manufacturer | E1: Equipment Type | F1: Model # | G1: Serial # | H1: Equipment ID | I1: TESTCODE | J1: TESTNO | K1: QC | L1: Sorter | N1: BATCH QC CONCAT | O1: QC TEMPLATES CONCAT
A2: =IF(ISBLANK(Data!$I$2), "", Data!$I$2+1) -> 1392 | B2: NASHVILLE | C2: Molecular Biology | D2: Illumina | E2: Whole genome sequencer | F2: MiSeq i100 | G2: SL00213 | H2: MiSeq i100 SL00213 | I2: 3015 | J2: SARS-CoV-2 WGS | K2: A Lineage PC1 | L2: 1 | N2: =IF(ISBLANK(B2), "", _xlfn.CONCAT("insert into EQUIP_STANDARDS (CUPNO, INSTSPECIFICQCTYPE, MULTIPLIER, ORIGSTS, POSTYPE, METHOD, BATCHID, BATCH_ID, EQID, QCTYPE) values ('0', 'Y', '1', 'N', 'N/A', 'Default', 'N/A', '"&A2&"', '"&H2&"', '"&K2&"')")) -> insert into EQUIP_STANDARDS (CUPNO, INSTSPECIFICQCTYPE, MULTIPLIER, ORIGSTS, POSTYPE, METHOD, BATCHID, BATCH_ID, EQID, QCTYPE) values ('0', 'Y', '1', 'N', 'N/A', 'Default', 'N/A', '1392', 'MiSeq i100 SL00213', 'A Lineage PC1') | O2: =IF(ISBLANK(A2), "", _xlfn.CONCAT("insert into QCSAMPSLAYOUT (AUTOADD, ORIGSTS, POSTYPE, CUPNO, BATCH_ID, EQID, QCTYPE) values ('Y', 'N', 'Absolute', '"&L2&"', '"&A2&"', '"&G2&"', '"&K2&"')")) -> insert into QCSAMPSLAYOUT (AUTOADD, ORIGSTS, POSTYPE, CUPNO, BATCH_ID, EQID, QCTYPE) values ('Y', 'N', 'Absolute', '1', '1392', 'SL00213', 'A Lineage PC1')
A3: =IF(ISBLANK(Data!$I$2), "", Data!$I$2+1) -> 1392 | B3: NASHVILLE | C3: Molecular Biology | D3: Illumina | E3: Whole genome sequencer | F3: MiSeq i100 | G3: SL00213 | H3: MiSeq i100 SL00213 | I3: 3015 | J3: SARS-CoV-2 WGS | K3: A Lineage PC2 | L3: 2 | N3: =IF(ISBLANK(B3), "", _xlfn.CONCAT("insert into EQUIP_STANDARDS (CUPNO, INSTSPECIFICQCTYPE, MULTIPLIER, ORIGSTS, POSTYPE, METHOD, BATCHID, BATCH_ID, EQID, QCTYPE) values ('0', 'Y', '1', 'N', 'N/A', 'Default', 'N/A', '"&A3&"', '"&H3&"', '"&K3&"')")) -> insert into EQUIP_STANDARDS (CUPNO, INSTSPECIFICQCTYPE, MULTIPLIER, ORIGSTS, POSTYPE, METHOD, BATCHID, BATCH_ID, EQID, QCTYPE) values ('0', 'Y', '1', 'N', 'N/A', 'Default', 'N/A', '1392', 'MiSeq i100 SL00213', 'A Lineage PC2') | O3: =IF(ISBLANK(A3), "", _xlfn.CONCAT("insert into QCSAMPSLAYOUT (AUTOADD, ORIGSTS, POSTYPE, CUPNO, BATCH_ID, EQID, QCTYPE) values ('Y', 'N', 'Absolute', '"&L3&"', '"&A3&"', '"&G3&"', '"&K3&"')")) -> insert into QCSAMPSLAYOUT (AUTOADD, ORIGSTS, POSTYPE, CUPNO, BATCH_ID, EQID, QCTYPE) values ('Y', 'N', 'Absolute', '2', '1392', 'SL00213', 'A Lineage PC2')
A4: =IF(ISBLANK(Data!$I$2), "", Data!$I$2+1) -> 1392 | B4: NASHVILLE | C4: Molecular Biology | D4: Illumina | E4: Whole genome sequencer | F4: MiSeq i100 | G4: SL00213 | H4: MiSeq i100 SL00213 | I4: 3015 | J4: SARS-CoV-2 WGS | K4: B.1.1.7 Lineage PC1 | L4: 3 | N4: =IF(ISBLANK(B4), "", _xlfn.CONCAT("insert into EQUIP_STANDARDS (CUPNO, INSTSPECIFICQCTYPE, MULTIPLIER, ORIGSTS, POSTYPE, METHOD, BATCHID, BATCH_ID, EQID, QCTYPE) values ('0', 'Y', '1', 'N', 'N/A', 'Default', 'N/A', '"&A4&"', '"&H4&"', '"&K4&"')")) -> insert into EQUIP_STANDARDS (CUPNO, INSTSPECIFICQCTYPE, MULTIPLIER, ORIGSTS, POSTYPE, METHOD, BATCHID, BATCH_ID, EQID, QCTYPE) values ('0', 'Y', '1', 'N', 'N/A', 'Default', 'N/A', '1392', 'MiSeq i100 SL00213', 'B.1.1.7 Lineage PC1') | O4: =IF(ISBLANK(A4), "", _xlfn.CONCAT("insert into QCSAMPSLAYOUT (AUTOADD, ORIGSTS, POSTYPE, CUPNO, BATCH_ID, EQID, QCTYPE) values ('Y', 'N', 'Absolute', '"&L4&"', '"&A4&"', '"&G4&"', '"&K4&"')")) -> insert into QCSAMPSLAYOUT (AUTOADD, ORIGSTS, POSTYPE, CUPNO, BATCH_ID, EQID, QCTYPE) values ('Y', 'N', 'Absolute', '3', '1392', 'SL00213', 'B.1.1.7 Lineage PC1')
A5: =IF(ISBLANK(Data!$I$2), "", Data!$I$2+1) -> 1392 | B5: NASHVILLE | C5: Molecular Biology | D5: Illumina | E5: Whole genome sequencer | F5: MiSeq i100 | G5: SL00213 | H5: MiSeq i100 SL00213 | I5: 3015 | J5: SARS-CoV-2 WGS | K5: B.1.1.7 Lineage PC2 | L5: 4 | N5: =IF(ISBLANK(B5), "", _xlfn.CONCAT("insert into EQUIP_STANDARDS (CUPNO, INSTSPECIFICQCTYPE, MULTIPLIER, ORIGSTS, POSTYPE, METHOD, BATCHID, BATCH_ID, EQID, QCTYPE) values ('0', 'Y', '1', 'N', 'N/A', 'Default', 'N/A', '"&A5&"', '"&H5&"', '"&K5&"')")) -> insert into EQUIP_STANDARDS (CUPNO, INSTSPECIFICQCTYPE, MULTIPLIER, ORIGSTS, POSTYPE, METHOD, BATCHID, BATCH_ID, EQID, QCTYPE) values ('0', 'Y', '1', 'N', 'N/A', 'Default', 'N/A', '1392', 'MiSeq i100 SL00213', 'B.1.1.7 Lineage PC2') | O5: =IF(ISBLANK(A5), "", _xlfn.CONCAT("insert into QCSAMPSLAYOUT (AUTOADD, ORIGSTS, POSTYPE, CUPNO, BATCH_ID, EQID, QCTYPE) values ('Y', 'N', 'Absolute', '"&L5&"', '"&A5&"', '"&G5&"', '"&K5&"')")) -> insert into QCSAMPSLAYOUT (AUTOADD, ORIGSTS, POSTYPE, CUPNO, BATCH_ID, EQID, QCTYPE) values ('Y', 'N', 'Absolute', '4', '1392', 'SL00213', 'B.1.1.7 Lineage PC2')
A6: =IF(ISBLANK(Data!$I$2), "", Data!$I$2+1) -> 1392 | B6: NASHVILLE | C6: Molecular Biology | D6: Illumina | E6: Whole genome sequencer | F6: MiSeq i100 | G6: SL00213 | H6: MiSeq i100 SL00213 | I6: 3015 | J6: SARS-CoV-2 WGS | K6: NON-SC2 Lineage NC1 | L6: 5 | N6: =IF(ISBLANK(B6), "", _xlfn.CONCAT("insert into EQUIP_STANDARDS (CUPNO, INSTSPECIFICQCTYPE, MULTIPLIER, ORIGSTS, POSTYPE, METHOD, BATCHID, BATCH_ID, EQID, QCTYPE) values ('0', 'Y', '1', 'N', 'N/A', 'Default', 'N/A', '"&A6&"', '"&H6&"', '"&K6&"')")) -> insert into EQUIP_STANDARDS (CUPNO, INSTSPECIFICQCTYPE, MULTIPLIER, ORIGSTS, POSTYPE, METHOD, BATCHID, BATCH_ID, EQID, QCTYPE) values ('0', 'Y', '1', 'N', 'N/A', 'Default', 'N/A', '1392', 'MiSeq i100 SL00213', 'NON-SC2 Lineage NC1') | O6: =IF(ISBLANK(A6), "", _xlfn.CONCAT("insert into QCSAMPSLAYOUT (AUTOADD, ORIGSTS, POSTYPE, CUPNO, BATCH_ID, EQID, QCTYPE) values ('Y', 'N', 'Absolute', '"&L6&"', '"&A6&"', '"&G6&"', '"&K6&"')")) -> insert into QCSAMPSLAYOUT (AUTOADD, ORIGSTS, POSTYPE, CUPNO, BATCH_ID, EQID, QCTYPE) values ('Y', 'N', 'Absolute', '5', '1392', 'SL00213', 'NON-SC2 Lineage NC1')
A7: =IF(ISBLANK(Data!$I$2), "", Data!$I$2+1) -> 1392 | B7: NASHVILLE | C7: Molecular Biology | D7: Illumina | E7: Whole genome sequencer | F7: MiSeq i100 | G7: SL00213 | H7: MiSeq i100 SL00213 | I7: 3015 | J7: SARS-CoV-2 WGS | K7: NON-SC2 Lineage NC2 | L7: 6 | N7: =IF(ISBLANK(B7), "", _xlfn.CONCAT("insert into EQUIP_STANDARDS (CUPNO, INSTSPECIFICQCTYPE, MULTIPLIER, ORIGSTS, POSTYPE, METHOD, BATCHID, BATCH_ID, EQID, QCTYPE) values ('0', 'Y', '1', 'N', 'N/A', 'Default', 'N/A', '"&A7&"', '"&H7&"', '"&K7&"')")) -> insert into EQUIP_STANDARDS (CUPNO, INSTSPECIFICQCTYPE, MULTIPLIER, ORIGSTS, POSTYPE, METHOD, BATCHID, BATCH_ID, EQID, QCTYPE) values ('0', 'Y', '1', 'N', 'N/A', 'Default', 'N/A', '1392', 'MiSeq i100 SL00213', 'NON-SC2 Lineage NC2') | O7: =IF(ISBLANK(A7), "", _xlfn.CONCAT("insert into QCSAMPSLAYOUT (AUTOADD, ORIGSTS, POSTYPE, CUPNO, BATCH_ID, EQID, QCTYPE) values ('Y', 'N', 'Absolute', '"&L7&"', '"&A7&"', '"&G7&"', '"&K7&"')")) -> insert into QCSAMPSLAYOUT (AUTOADD, ORIGSTS, POSTYPE, CUPNO, BATCH_ID, EQID, QCTYPE) values ('Y', 'N', 'Absolute', '6', '1392', 'SL00213', 'NON-SC2 Lineage NC2')
A8: 1393 | B8: NASHVILLE | C8: Molecular Biology | D8: Illumina | E8: Whole genome sequencer | F8: MiSeq i100 | G8: SL00213 | H8: MiSeq i100 SL00213 | I8: 3023 | J8: Candida auris Sequencing | K8: C auris PC | L8: 1 | N8: =IF(ISBLANK(B8), "", _xlfn.CONCAT("insert into EQUIP_STANDARDS (CUPNO, INSTSPECIFICQCTYPE, MULTIPLIER, ORIGSTS, POSTYPE, METHOD, BATCHID, BATCH_ID, EQID, QCTYPE) values ('0', 'Y', '1', 'N', 'N/A', 'Default', 'N/A', '"&A8&"', '"&H8&"', '"&K8&"')")) -> insert into EQUIP_STANDARDS (CUPNO, INSTSPECIFICQCTYPE, MULTIPLIER, ORIGSTS, POSTYPE, METHOD, BATCHID, BATCH_ID, EQID, QCTYPE) values ('0', 'Y', '1', 'N', 'N/A', 'Default', 'N/A', '1393', 'MiSeq i100 SL00213', 'C auris PC') | O8: =IF(ISBLANK(A8), "", _xlfn.CONCAT("insert into QCSAMPSLAYOUT (AUTOADD, ORIGSTS, POSTYPE, CUPNO, BATCH_ID, EQID, QCTYPE) values ('Y', 'N', 'Absolute', '"&L8&"', '"&A8&"', '"&G8&"', '"&K8&"')")) -> insert into QCSAMPSLAYOUT (AUTOADD, ORIGSTS, POSTYPE, CUPNO, BATCH_ID, EQID, QCTYPE) values ('Y', 'N', 'Absolute', '1', '1393', 'SL00213', 'C auris PC')
A9: 1393 | B9: NASHVILLE | C9: Molecular Biology | D9: Illumina | E9: Whole genome sequencer | F9: MiSeq i100 | G9: SL00213 | H9: MiSeq i100 SL00213 | I9: 3023 | J9: Candida auris Sequencing | K9: Non C auris NC | L9: 2 | N9: =IF(ISBLANK(B9), "", _xlfn.CONCAT("insert into EQUIP_STANDARDS (CUPNO, INSTSPECIFICQCTYPE, MULTIPLIER, ORIGSTS, POSTYPE, METHOD, BATCHID, BATCH_ID, EQID, QCTYPE) values ('0', 'Y', '1', 'N', 'N/A', 'Default', 'N/A', '"&A9&"', '"&H9&"', '"&K9&"')")) -> insert into EQUIP_STANDARDS (CUPNO, INSTSPECIFICQCTYPE, MULTIPLIER, ORIGSTS, POSTYPE, METHOD, BATCHID, BATCH_ID, EQID, QCTYPE) values ('0', 'Y', '1', 'N', 'N/A', 'Default', 'N/A', '1393', 'MiSeq i100 SL00213', 'Non C auris NC') | O9: =IF(ISBLANK(A9), "", _xlfn.CONCAT("insert into QCSAMPSLAYOUT (AUTOADD, ORIGSTS, POSTYPE, CUPNO, BATCH_ID, EQID, QCTYPE) values ('Y', 'N', 'Absolute', '"&L9&"', '"&A9&"', '"&G9&"', '"&K9&"')")) -> insert into QCSAMPSLAYOUT (AUTOADD, ORIGSTS, POSTYPE, CUPNO, BATCH_ID, EQID, QCTYPE) values ('Y', 'N', 'Absolute', '2', '1393', 'SL00213', 'Non C auris NC')
A10: 1394 | B10: NASHVILLE | C10: Molecular Biology | D10: Illumina | E10: Whole genome sequencer | F10: MiSeq i100 | G10: SL00213 | H10: MiSeq i100 SL00213 | I10: 3028 | J10: PulseNet Bacterial WGS | K10: PosCtrl | L10: 1 | N10: =IF(ISBLANK(B10), "", _xlfn.CONCAT("insert into EQUIP_STANDARDS (CUPNO, INSTSPECIFICQCTYPE, MULTIPLIER, ORIGSTS, POSTYPE, METHOD, BATCHID, BATCH_ID, EQID, QCTYPE) values ('0', 'Y', '1', 'N', 'N/A', 'Default', 'N/A', '"&A10&"', '"&H10&"', '"&K10&"')")) -> insert into EQUIP_STANDARDS (CUPNO, INSTSPECIFICQCTYPE, MULTIPLIER, ORIGSTS, POSTYPE, METHOD, BATCHID, BATCH_ID, EQID, QCTYPE) values ('0', 'Y', '1', 'N', 'N/A', 'Default', 'N/A', '1394', 'MiSeq i100 SL00213', 'PosCtrl') | O10: =IF(ISBLANK(A10), "", _xlfn.CONCAT("insert into QCSAMPSLAYOUT (AUTOADD, ORIGSTS, POSTYPE, CUPNO, BATCH_ID, EQID, QCTYPE) values ('Y', 'N', 'Absolute', '"&L10&"', '"&A10&"', '"&G10&"', '"&K10&"')")) -> insert into QCSAMPSLAYOUT (AUTOADD, ORIGSTS, POSTYPE, CUPNO, BATCH_ID, EQID, QCTYPE) values ('Y', 'N', 'Absolute', '1', '1394', 'SL00213', 'PosCtrl')
A11: 1394 | B11: NASHVILLE | C11: Molecular Biology | D11: Illumina | E11: Whole genome sequencer | F11: MiSeq i100 | G11: SL00213 | H11: MiSeq i100 SL00213 | I11: 3028 | J11: PulseNet Bacterial WGS | K11: NegCtrl | L11: 2 | N11: =IF(ISBLANK(B11), "", _xlfn.CONCAT("insert into EQUIP_STANDARDS (CUPNO, INSTSPECIFICQCTYPE, MULTIPLIER, ORIGSTS, POSTYPE, METHOD, BATCHID, BATCH_ID, EQID, QCTYPE) values ('0', 'Y', '1', 'N', 'N/A', 'Default', 'N/A', '"&A11&"', '"&H11&"', '"&K11&"')")) -> insert into EQUIP_STANDARDS (CUPNO, INSTSPECIFICQCTYPE, MULTIPLIER, ORIGSTS, POSTYPE, METHOD, BATCHID, BATCH_ID, EQID, QCTYPE) values ('0', 'Y', '1', 'N', 'N/A', 'Default', 'N/A', '1394', 'MiSeq i100 SL00213', 'NegCtrl') | O11: =IF(ISBLANK(A11), "", _xlfn.CONCAT("insert into QCSAMPSLAYOUT (AUTOADD, ORIGSTS, POSTYPE, CUPNO, BATCH_ID, EQID, QCTYPE) values ('Y', 'N', 'Absolute', '"&L11&"', '"&A11&"', '"&G11&"', '"&K11&"')")) -> insert into QCSAMPSLAYOUT (AUTOADD, ORIGSTS, POSTYPE, CUPNO, BATCH_ID, EQID, QCTYPE) values ('Y', 'N', 'Absolute', '2', '1394', 'SL00213', 'NegCtrl')
N12: =IF(ISBLANK(B12), "", _xlfn.CONCAT("insert into EQUIP_STANDARDS (CUPNO, INSTSPECIFICQCTYPE, MULTIPLIER, ORIGSTS, POSTYPE, METHOD, BATCHID, BATCH_ID, EQID, QCTYPE) values ('0', 'Y', '1', 'N', 'N/A', 'Default', 'N/A', '"&A12&"', '"&H12&"', '"&K12&"')")) | O12: =IF(ISBLANK(A12), "", _xlfn.CONCAT("insert into QCSAMPSLAYOUT (AUTOADD, ORIGSTS, POSTYPE, CUPNO, BATCH_ID, EQID, QCTYPE) values ('Y', 'N', 'Absolute', '"&L12&"', '"&A12&"', '"&G12&"', '"&K12&"')"))
N13: =IF(ISBLANK(B13), "", _xlfn.CONCAT("insert into EQUIP_STANDARDS (CUPNO, INSTSPECIFICQCTYPE, MULTIPLIER, ORIGSTS, POSTYPE, METHOD, BATCHID, BATCH_ID, EQID, QCTYPE) values ('0', 'Y', '1', 'N', 'N/A', 'Default', 'N/A', '"&A13&"', '"&H13&"', '"&K13&"')")) | O13: =IF(ISBLANK(A13), "", _xlfn.CONCAT("insert into QCSAMPSLAYOUT (AUTOADD, ORIGSTS, POSTYPE, CUPNO, BATCH_ID, EQID, QCTYPE) values ('Y', 'N', 'Absolute', '"&L13&"', '"&A13&"', '"&G13&"', '"&K13&"')"))
N14: =IF(ISBLANK(B14), "", _xlfn.CONCAT("insert into EQUIP_STANDARDS (CUPNO, INSTSPECIFICQCTYPE, MULTIPLIER, ORIGSTS, POSTYPE, METHOD, BATCHID, BATCH_ID, EQID, QCTYPE) values ('0', 'Y', '1', 'N', 'N/A', 'Default', 'N/A', '"&A14&"', '"&H14&"', '"&K14&"')")) | O14: =IF(ISBLANK(A14), "", _xlfn.CONCAT("insert into QCSAMPSLAYOUT (AUTOADD, ORIGSTS, POSTYPE, CUPNO, BATCH_ID, EQID, QCTYPE) values ('Y', 'N', 'Absolute', '"&L14&"', '"&A14&"', '"&G14&"', '"&K14&"')"))
N15: =IF(ISBLANK(B15), "", _xlfn.CONCAT("insert into EQUIP_STANDARDS (CUPNO, INSTSPECIFICQCTYPE, MULTIPLIER, ORIGSTS, POSTYPE, METHOD, BATCHID, BATCH_ID, EQID, QCTYPE) values ('0', 'Y', '1', 'N', 'N/A', 'Default', 'N/A', '"&A15&"', '"&H15&"', '"&K15&"')")) | O15: =IF(ISBLANK(A15), "", _xlfn.CONCAT("insert into QCSAMPSLAYOUT (AUTOADD, ORIGSTS, POSTYPE, CUPNO, BATCH_ID, EQID, QCTYPE) values ('Y', 'N', 'Absolute', '"&L15&"', '"&A15&"', '"&G15&"', '"&K15&"')"))
N16: =IF(ISBLANK(B16), "", _xlfn.CONCAT("insert into EQUIP_STANDARDS (CUPNO, INSTSPECIFICQCTYPE, MULTIPLIER, ORIGSTS, POSTYPE, METHOD, BATCHID, BATCH_ID, EQID, QCTYPE) values ('0', 'Y', '1', 'N', 'N/A', 'Default', 'N/A', '"&A16&"', '"&H16&"', '"&K16&"')")) | O16: =IF(ISBLANK(A16), "", _xlfn.CONCAT("insert into QCSAMPSLAYOUT (AUTOADD, ORIGSTS, POSTYPE, CUPNO, BATCH_ID, EQID, QCTYPE) values ('Y', 'N', 'Absolute', '"&L16&"', '"&A16&"', '"&G16&"', '"&K16&"')"))
N17: =IF(ISBLANK(B17), "", _xlfn.CONCAT("insert into EQUIP_STANDARDS (CUPNO, INSTSPECIFICQCTYPE, MULTIPLIER, ORIGSTS, POSTYPE, METHOD, BATCHID, BATCH_ID, EQID, QCTYPE) values ('0', 'Y', '1', 'N', 'N/A', 'Default', 'N/A', '"&A17&"', '"&H17&"', '"&K17&"')")) | O17: =IF(ISBLANK(A17), "", _xlfn.CONCAT("insert into QCSAMPSLAYOUT (AUTOADD, ORIGSTS, POSTYPE, CUPNO, BATCH_ID, EQID, QCTYPE) values ('Y', 'N', 'Absolute', '"&L17&"', '"&A17&"', '"&G17&"', '"&K17&"')"))
N18: =IF(ISBLANK(B18), "", _xlfn.CONCAT("insert into EQUIP_STANDARDS (CUPNO, INSTSPECIFICQCTYPE, MULTIPLIER, ORIGSTS, POSTYPE, METHOD, BATCHID, BATCH_ID, EQID, QCTYPE) values ('0', 'Y', '1', 'N', 'N/A', 'Default', 'N/A', '"&A18&"', '"&H18&"', '"&K18&"')")) | O18: =IF(ISBLANK(A18), "", _xlfn.CONCAT("insert into QCSAMPSLAYOUT (AUTOADD, ORIGSTS, POSTYPE, CUPNO, BATCH_ID, EQID, QCTYPE) values ('Y', 'N', 'Absolute', '"&L18&"', '"&A18&"', '"&G18&"', '"&K18&"')"))
N19: =IF(ISBLANK(B19), "", _xlfn.CONCAT("insert into EQUIP_STANDARDS (CUPNO, INSTSPECIFICQCTYPE, MULTIPLIER, ORIGSTS, POSTYPE, METHOD, BATCHID, BATCH_ID, EQID, QCTYPE) values ('0', 'Y', '1', 'N', 'N/A', 'Default', 'N/A', '"&A19&"', '"&H19&"', '"&K19&"')")) | O19: =IF(ISBLANK(A19), "", _xlfn.CONCAT("insert into QCSAMPSLAYOUT (AUTOADD, ORIGSTS, POSTYPE, CUPNO, BATCH_ID, EQID, QCTYPE) values ('Y', 'N', 'Absolute', '"&L19&"', '"&A19&"', '"&G19&"', '"&K19&"')"))
N20: =IF(ISBLANK(B20), "", _xlfn.CONCAT("insert into EQUIP_STANDARDS (CUPNO, INSTSPECIFICQCTYPE, MULTIPLIER, ORIGSTS, POSTYPE, METHOD, BATCHID, BATCH_ID, EQID, QCTYPE) values ('0', 'Y', '1', 'N', 'N/A', 'Default', 'N/A', '"&A20&"', '"&H20&"', '"&K20&"')")) | O20: =IF(ISBLANK(A20), "", _xlfn.CONCAT("insert into QCSAMPSLAYOUT (AUTOADD, ORIGSTS, POSTYPE, CUPNO, BATCH_ID, EQID, QCTYPE) values ('Y', 'N', 'Absolute', '"&L20&"', '"&A20&"', '"&G20&"', '"&K20&"')"))
N21: =IF(ISBLANK(B21), "", _xlfn.CONCAT("insert into EQUIP_STANDARDS (CUPNO, INSTSPECIFICQCTYPE, MULTIPLIER, ORIGSTS, POSTYPE, METHOD, BATCHID, BATCH_ID, EQID, QCTYPE) values ('0', 'Y', '1', 'N', 'N/A', 'Default', 'N/A', '"&A21&"', '"&H21&"', '"&K21&"')")) | O21: =IF(ISBLANK(A21), "", _xlfn.CONCAT("insert into QCSAMPSLAYOUT (AUTOADD, ORIGSTS, POSTYPE, CUPNO, BATCH_ID, EQID, QCTYPE) values ('Y', 'N', 'Absolute', '"&L21&"', '"&A21&"', '"&G21&"', '"&K21&"')"))
N22: =IF(ISBLANK(B22), "", _xlfn.CONCAT("insert into EQUIP_STANDARDS (CUPNO, INSTSPECIFICQCTYPE, MULTIPLIER, ORIGSTS, POSTYPE, METHOD, BATCHID, BATCH_ID, EQID, QCTYPE) values ('0', 'Y', '1', 'N', 'N/A', 'Default', 'N/A', '"&A22&"', '"&H22&"', '"&K22&"')")) | O22: =IF(ISBLANK(A22), "", _xlfn.CONCAT("insert into QCSAMPSLAYOUT (AUTOADD, ORIGSTS, POSTYPE, CUPNO, BATCH_ID, EQID, QCTYPE) values ('Y', 'N', 'Absolute', '"&L22&"', '"&A22&"', '"&G22&"', '"&K22&"')"))
N23: =IF(ISBLANK(B23), "", _xlfn.CONCAT("insert into EQUIP_STANDARDS (CUPNO, INSTSPECIFICQCTYPE, MULTIPLIER, ORIGSTS, POSTYPE, METHOD, BATCHID, BATCH_ID, EQID, QCTYPE) values ('0', 'Y', '1', 'N', 'N/A', 'Default', 'N/A', '"&A23&"', '"&H23&"', '"&K23&"')")) | O23: =IF(ISBLANK(A23), "", _xlfn.CONCAT("insert into QCSAMPSLAYOUT (AUTOADD, ORIGSTS, POSTYPE, CUPNO, BATCH_ID, EQID, QCTYPE) values ('Y', 'N', 'Absolute', '"&L23&"', '"&A23&"', '"&G23&"', '"&K23&"')"))
... N41: =IF(ISBLANK(B41), "", _xlfn.CONCAT("insert into EQUIP_STANDARDS (CUPNO, INSTSPECIFICQCTYPE, MULTIPLIER, ORIGSTS, POSTYPE, METHOD, BATCHID, BATCH_ID, EQID, QCTYPE) values ('0', 'Y', '1', 'N', 'N/A', 'Default', 'N/A', '"&A41&"', '"&H41&"', '"&K41&"')")) | O41: =IF(ISBLANK(A41), "", _xlfn.CONCAT("insert into QCSAMPSLAYOUT (AUTOADD, ORIGSTS, POSTYPE, CUPNO, BATCH_ID, EQID, QCTYPE) values ('Y', 'N', 'Absolute', '"&L41&"', '"&A41&"', '"&G41&"', '"&K41&"')"))
