Workbook

Sheet Data
A1: ORIGREC | B1: Folder # | C1: Question | D1: Response | E1: Received Date | F1: Release Date | G1: Comments
A2: 335603
A3: 335607
A4: 335913
A5: 335773
A6: 335932
A7: 335937
A8: 335941

Sheet Sheet1
A1: Specimen ID
A2: N26003192 | E2: N26E003192-01
A3: N26010447 | E3: N26E010447-01
A4: N26010448 | E4: N26E010448-01
A5: N26010459 | E5: N26E010459-01
A6: N26010467 | E6: N26E010467-01
A7: N26010516 | E7: N26E010516-01
A8: N26010517 | E8: N26E010517-01
A9: N26010569 | E9: N26E010569-01
A10: N26013815 | E10: N26E013815-01
A11: N26013817 | E11: N26E013817-01
A12: N26014753 | E12: N26E014753-01
A13: N26014814 | E13: N26E014814-01
... A305: N26045148 | E305: N26E045148-01

Sheet Update
A1: calculation | B1: Calculated Response | D1: concatentation | E1: Update Script
A2: =IF(ISBLANK(Data!D2), "", IF(Data!D2="NO", "Not pregnant (finding)", IF(Data!D2="YES", "Patient currently pregnant", "Unknown"))) | B2: =A2 | D2: =IF(ISBLANK(Data!D2), "", _xlfn.CONCAT("update CENTRALRECVQUESTIONS set RESPONSE = '"&B2&"' where ORIGREC = '"&Data!A2&"'")) | E2: =D2
A3: =IF(ISBLANK(Data!D3), "", IF(Data!D3="NO", "Not pregnant (finding)", IF(Data!D3="YES", "Patient currently pregnant", "Unknown"))) | B3: =A3 | D3: =IF(ISBLANK(Data!D3), "", _xlfn.CONCAT("update CENTRALRECVQUESTIONS set RESPONSE = '"&B3&"' where ORIGREC = '"&Data!A3&"'")) | E3: =D3
A4: =IF(ISBLANK(Data!D4), "", IF(Data!D4="NO", "Not pregnant (finding)", IF(Data!D4="YES", "Patient currently pregnant", "Unknown"))) | B4: =A4 | D4: =IF(ISBLANK(Data!D4), "", _xlfn.CONCAT("update CENTRALRECVQUESTIONS set RESPONSE = '"&B4&"' where ORIGREC = '"&Data!A4&"'")) | E4: =D4
A5: =IF(ISBLANK(Data!D5), "", IF(Data!D5="NO", "Not pregnant (finding)", IF(Data!D5="YES", "Patient currently pregnant", "Unknown"))) | B5: =A5 | D5: =IF(ISBLANK(Data!D5), "", _xlfn.CONCAT("update CENTRALRECVQUESTIONS set RESPONSE = '"&B5&"' where ORIGREC = '"&Data!A5&"'")) | E5: =D5
A6: =IF(ISBLANK(Data!D6), "", IF(Data!D6="NO", "Not pregnant (finding)", IF(Data!D6="YES", "Patient currently pregnant", "Unknown"))) | B6: =A6 | D6: =IF(ISBLANK(Data!D6), "", _xlfn.CONCAT("update CENTRALRECVQUESTIONS set RESPONSE = '"&B6&"' where ORIGREC = '"&Data!A6&"'")) | E6: =D6
A7: =IF(ISBLANK(Data!D7), "", IF(Data!D7="NO", "Not pregnant (finding)", IF(Data!D7="YES", "Patient currently pregnant", "Unknown"))) | B7: =A7 | D7: =IF(ISBLANK(Data!D7), "", _xlfn.CONCAT("update CENTRALRECVQUESTIONS set RESPONSE = '"&B7&"' where ORIGREC = '"&Data!A7&"'")) | E7: =D7
A8: =IF(ISBLANK(Data!D8), "", IF(Data!D8="NO", "Not pregnant (finding)", IF(Data!D8="YES", "Patient currently pregnant", "Unknown"))) | B8: =A8 | D8: =IF(ISBLANK(Data!D8), "", _xlfn.CONCAT("update CENTRALRECVQUESTIONS set RESPONSE = '"&B8&"' where ORIGREC = '"&Data!A8&"'")) | E8: =D8
A9: =IF(ISBLANK(Data!D9), "", IF(Data!D9="NO", "Not pregnant (finding)", IF(Data!D9="YES", "Patient currently pregnant", "Unknown"))) | B9: =A9 | D9: =IF(ISBLANK(Data!D9), "", _xlfn.CONCAT("update CENTRALRECVQUESTIONS set RESPONSE = '"&B9&"' where ORIGREC = '"&Data!A9&"'")) | E9: =D9
A10: =IF(ISBLANK(Data!D10), "", IF(Data!D10="NO", "Not pregnant (finding)", IF(Data!D10="YES", "Patient currently pregnant", "Unknown"))) | B10: =A10 | D10: =IF(ISBLANK(Data!D10), "", _xlfn.CONCAT("update CENTRALRECVQUESTIONS set RESPONSE = '"&B10&"' where ORIGREC = '"&Data!A10&"'")) | E10: =D10
A11: =IF(ISBLANK(Data!D11), "", IF(Data!D11="NO", "Not pregnant (finding)", IF(Data!D11="YES", "Patient currently pregnant", "Unknown"))) | B11: =A11 | D11: =IF(ISBLANK(Data!D11), "", _xlfn.CONCAT("update CENTRALRECVQUESTIONS set RESPONSE = '"&B11&"' where ORIGREC = '"&Data!A11&"'")) | E11: =D11
A12: =IF(ISBLANK(Data!D12), "", IF(Data!D12="NO", "Not pregnant (finding)", IF(Data!D12="YES", "Patient currently pregnant", "Unknown"))) | B12: =A12 | D12: =IF(ISBLANK(Data!D12), "", _xlfn.CONCAT("update CENTRALRECVQUESTIONS set RESPONSE = '"&B12&"' where ORIGREC = '"&Data!A12&"'")) | E12: =D12
A13: =IF(ISBLANK(Data!D13), "", IF(Data!D13="NO", "Not pregnant (finding)", IF(Data!D13="YES", "Patient currently pregnant", "Unknown"))) | B13: =A13 | D13: =IF(ISBLANK(Data!D13), "", _xlfn.CONCAT("update CENTRALRECVQUESTIONS set RESPONSE = '"&B13&"' where ORIGREC = '"&Data!A13&"'")) | E13: =D13
... A501: =IF(ISBLANK(Data!D501), "", IF(Data!D501="NO", "Not pregnant (finding)", IF(Data!D501="YES", "Patient currently pregnant", "Unknown"))) | B501: =A501 | D501: =IF(ISBLANK(Data!D501), "", _xlfn.CONCAT("update CENTRALRECVQUESTIONS set RESPONSE = '"&B501&"' where ORIGREC = '"&Data!A501&"'")) | E501: =D501

Sheet Check
A1: SQL List Generator | K1: Paste Values from SQL query ----------> | L1: ORIGREC | M1: RESPONSE | N1: Original | O1: Check
A2: =IF(ISBLANK(Data!$A2),"",_xlfn.CONCAT("'"&Data!$A2&"'")) -> '335603' | F2: Copy (CTRL + C) | G2: Paste VALUES (ALT; H; V; V) | N2: =IF(ISBLANK(L2), "", VLOOKUP(L2, Data!A:D, 4, FALSE)) | O2: =IF(ISBLANK(L2), "", IF(N2="NO", IF(M2="Not pregnant (finding)", "OK", "NEEDS UPDATE"), IF(N2="YES", IF(M2="Patient currently pregnant", "OK", "NEEDS UPDATE"), IF(M2="Unknown", "OK", "NEEDS UPDATE"))))
A3: =IF(ISBLANK(Data!$A3),"",_xlfn.CONCAT($A2&", '"&Data!$A3&"'")) -> '335603', '335607' | D3: SQL List Generator | E3: =_xlfn.CONCAT("select q.ORIGREC, q.RESPONSE from CENTRALRECVQUESTIONS q where q.ORIGREC in ("&HLOOKUP($D3, $A:$A, COUNTA(Data!B:B), 0)&")") -> select q.ORIGREC, q.RESPONSE from CENTRALRECVQUESTIONS q where q.ORIGREC in (SQL List Generator) | F3: =E3 -> select q.ORIGREC, q.RESPONSE from CENTRALRECVQUESTIONS q where q.ORIGREC in (SQL List Generator) | G3: select q.ORIGREC, q.RESPONSE from CENTRALRECVQUESTIONS q where q.ORIGREC in ('3738691', '3738796', '3738767', '3740254', '3741576', '3741158', '3741616', '3738591', '3738704', '3738599', '3740262', '3738668', '3738759', '3738852', '3738655', '3738731', '3738804', '3741562', '3741568', '3738860', '3737587') | N3: =IF(ISBLANK(L3), "", VLOOKUP(L3, Data!A:D, 4, FALSE)) | O3: =IF(ISBLANK(L3), "", IF(N3="NO", IF(M3="Not pregnant (finding)", "OK", "NEEDS UPDATE"), IF(N3="YES", IF(M3="Patient currently pregnant", "OK", "NEEDS UPDATE"), IF(M3="Unknown", "OK", "NEEDS UPDATE"))))
A4: =IF(ISBLANK(Data!$A4),"",_xlfn.CONCAT($A3&", '"&Data!$A4&"'")) -> '335603', '335607', '335913' | N4: =IF(ISBLANK(L4), "", VLOOKUP(L4, Data!A:D, 4, FALSE)) | O4: =IF(ISBLANK(L4), "", IF(N4="NO", IF(M4="Not pregnant (finding)", "OK", "NEEDS UPDATE"), IF(N4="YES", IF(M4="Patient currently pregnant", "OK", "NEEDS UPDATE"), IF(M4="Unknown", "OK", "NEEDS UPDATE"))))
A5: =IF(ISBLANK(Data!$A5),"",_xlfn.CONCAT($A4&", '"&Data!$A5&"'")) -> '335603', '335607', '335913', '335773' | N5: =IF(ISBLANK(L5), "", VLOOKUP(L5, Data!A:D, 4, FALSE)) | O5: =IF(ISBLANK(L5), "", IF(N5="NO", IF(M5="Not pregnant (finding)", "OK", "NEEDS UPDATE"), IF(N5="YES", IF(M5="Patient currently pregnant", "OK", "NEEDS UPDATE"), IF(M5="Unknown", "OK", "NEEDS UPDATE"))))
A6: =IF(ISBLANK(Data!$A6),"",_xlfn.CONCAT($A5&", '"&Data!$A6&"'")) -> '335603', '335607', '335913', '335773', '335932' | N6: =IF(ISBLANK(L6), "", VLOOKUP(L6, Data!A:D, 4, FALSE)) | O6: =IF(ISBLANK(L6), "", IF(N6="NO", IF(M6="Not pregnant (finding)", "OK", "NEEDS UPDATE"), IF(N6="YES", IF(M6="Patient currently pregnant", "OK", "NEEDS UPDATE"), IF(M6="Unknown", "OK", "NEEDS UPDATE"))))
A7: =IF(ISBLANK(Data!$A7),"",_xlfn.CONCAT($A6&", '"&Data!$A7&"'")) -> '335603', '335607', '335913', '335773', '335932', '335937' | N7: =IF(ISBLANK(L7), "", VLOOKUP(L7, Data!A:D, 4, FALSE)) | O7: =IF(ISBLANK(L7), "", IF(N7="NO", IF(M7="Not pregnant (finding)", "OK", "NEEDS UPDATE"), IF(N7="YES", IF(M7="Patient currently pregnant", "OK", "NEEDS UPDATE"), IF(M7="Unknown", "OK", "NEEDS UPDATE"))))
A8: =IF(ISBLANK(Data!$A8),"",_xlfn.CONCAT($A7&", '"&Data!$A8&"'")) -> '335603', '335607', '335913', '335773', '335932', '335937', '335941' | N8: =IF(ISBLANK(L8), "", VLOOKUP(L8, Data!A:D, 4, FALSE)) | O8: =IF(ISBLANK(L8), "", IF(N8="NO", IF(M8="Not pregnant (finding)", "OK", "NEEDS UPDATE"), IF(N8="YES", IF(M8="Patient currently pregnant", "OK", "NEEDS UPDATE"), IF(M8="Unknown", "OK", "NEEDS UPDATE"))))
A9: =IF(ISBLANK(Data!$A9),"",_xlfn.CONCAT($A8&", '"&Data!$A9&"'")) | N9: =IF(ISBLANK(L9), "", VLOOKUP(L9, Data!A:D, 4, FALSE)) | O9: =IF(ISBLANK(L9), "", IF(N9="NO", IF(M9="Not pregnant (finding)", "OK", "NEEDS UPDATE"), IF(N9="YES", IF(M9="Patient currently pregnant", "OK", "NEEDS UPDATE"), IF(M9="Unknown", "OK", "NEEDS UPDATE"))))
A10: =IF(ISBLANK(Data!$A10),"",_xlfn.CONCAT($A9&", '"&Data!$A10&"'")) | N10: =IF(ISBLANK(L10), "", VLOOKUP(L10, Data!A:D, 4, FALSE)) | O10: =IF(ISBLANK(L10), "", IF(N10="NO", IF(M10="Not pregnant (finding)", "OK", "NEEDS UPDATE"), IF(N10="YES", IF(M10="Patient currently pregnant", "OK", "NEEDS UPDATE"), IF(M10="Unknown", "OK", "NEEDS UPDATE"))))
A11: =IF(ISBLANK(Data!$A11),"",_xlfn.CONCAT($A10&", '"&Data!$A11&"'")) | N11: =IF(ISBLANK(L11), "", VLOOKUP(L11, Data!A:D, 4, FALSE)) | O11: =IF(ISBLANK(L11), "", IF(N11="NO", IF(M11="Not pregnant (finding)", "OK", "NEEDS UPDATE"), IF(N11="YES", IF(M11="Patient currently pregnant", "OK", "NEEDS UPDATE"), IF(M11="Unknown", "OK", "NEEDS UPDATE"))))
A12: =IF(ISBLANK(Data!$A12),"",_xlfn.CONCAT($A11&", '"&Data!$A12&"'")) | N12: =IF(ISBLANK(L12), "", VLOOKUP(L12, Data!A:D, 4, FALSE)) | O12: =IF(ISBLANK(L12), "", IF(N12="NO", IF(M12="Not pregnant (finding)", "OK", "NEEDS UPDATE"), IF(N12="YES", IF(M12="Patient currently pregnant", "OK", "NEEDS UPDATE"), IF(M12="Unknown", "OK", "NEEDS UPDATE"))))
A13: =IF(ISBLANK(Data!$A13),"",_xlfn.CONCAT($A12&", '"&Data!$A13&"'")) | N13: =IF(ISBLANK(L13), "", VLOOKUP(L13, Data!A:D, 4, FALSE)) | O13: =IF(ISBLANK(L13), "", IF(N13="NO", IF(M13="Not pregnant (finding)", "OK", "NEEDS UPDATE"), IF(N13="YES", IF(M13="Patient currently pregnant", "OK", "NEEDS UPDATE"), IF(M13="Unknown", "OK", "NEEDS UPDATE"))))
A14: =IF(ISBLANK(Data!$A14),"",_xlfn.CONCAT($A13&", '"&Data!$A14&"'")) | N14: =IF(ISBLANK(L14), "", VLOOKUP(L14, Data!A:D, 4, FALSE)) | O14: =IF(ISBLANK(L14), "", IF(N14="NO", IF(M14="Not pregnant (finding)", "OK", "NEEDS UPDATE"), IF(N14="YES", IF(M14="Patient currently pregnant", "OK", "NEEDS UPDATE"), IF(M14="Unknown", "OK", "NEEDS UPDATE"))))
A15: =IF(ISBLANK(Data!$A15),"",_xlfn.CONCAT($A14&", '"&Data!$A15&"'")) | N15: =IF(ISBLANK(L15), "", VLOOKUP(L15, Data!A:D, 4, FALSE)) | O15: =IF(ISBLANK(L15), "", IF(N15="NO", IF(M15="Not pregnant (finding)", "OK", "NEEDS UPDATE"), IF(N15="YES", IF(M15="Patient currently pregnant", "OK", "NEEDS UPDATE"), IF(M15="Unknown", "OK", "NEEDS UPDATE"))))
... A501: =IF(ISBLANK(Data!$A501),"",_xlfn.CONCAT($A500&", '"&Data!$A501&"'")) | N501: =IF(ISBLANK(L501), "", VLOOKUP(L501, Data!A:D, 4, FALSE)) | O501: =IF(ISBLANK(L501), "", IF(N501="NO", IF(M501="Not pregnant (finding)", "OK", "NEEDS UPDATE"), IF(N501="YES", IF(M501="Patient currently pregnant", "OK", "NEEDS UPDATE"), IF(M501="Unknown", "OK", "NEEDS UPDATE"))))

Sheet HL7 Resend
B1: CHECK | L1: RESENT
B2: =IFERROR(VLOOKUP(A2, L:L, 1, FALSE), "")
B3: =IFERROR(VLOOKUP(A3, L:L, 1, FALSE), "")
B4: =IFERROR(VLOOKUP(A4, L:L, 1, FALSE), "")
B5: =IFERROR(VLOOKUP(A5, L:L, 1, FALSE), "")
B6: =IFERROR(VLOOKUP(A6, L:L, 1, FALSE), "")
B7: =IFERROR(VLOOKUP(A7, L:L, 1, FALSE), "")
B8: =IFERROR(VLOOKUP(A8, L:L, 1, FALSE), "")
B9: =IFERROR(VLOOKUP(A9, L:L, 1, FALSE), "")
B10: =IFERROR(VLOOKUP(A10, L:L, 1, FALSE), "")
B11: =IFERROR(VLOOKUP(A11, L:L, 1, FALSE), "")
B12: =IFERROR(VLOOKUP(A12, L:L, 1, FALSE), "")
B13: =IFERROR(VLOOKUP(A13, L:L, 1, FALSE), "")
... B501: =IFERROR(VLOOKUP(A501, L:L, 1, FALSE), "")

Sheet List Generator
A1: List | B1: Concatenated List
A2: N23E319256-01 | B2: =_xlfn.CONCAT("'"&A2&"'") -> 'N23E319256-01'
A3: N23E320726-01 | B3: =_xlfn.CONCAT(B2&", '"&A3&"'") -> 'N23E319256-01', 'N23E320726-01' | F3: Concatenated List | G3: =HLOOKUP(F3, B:B, COUNTA(A:A), FALSE) -> 'N23E319256-01', 'N23E320726-01', 'N23E323394-01', 'N23E326686-01', 'N23E329502-01', 'N23E329726-01', 'N23E334600-01', 'N23E335682-01', 'N23E335698-01', 'N23E348534-01', 'N23E348537-01', 'N23E348538-01', 'N23E349754-01', 'N23E351779-01', 'N23E355336-01', 'N23E361817-01', 'N23E362215-01', 'N23E362217-01', 'N23E366018-01', 'N23E369400-01', 'N23E377142-01' | H3: =G3 -> 'N23E319256-01', 'N23E320726-01', 'N23E323394-01', 'N23E326686-01', 'N23E329502-01', 'N23E329726-01', 'N23E334600-01', 'N23E335682-01', 'N23E335698-01', 'N23E348534-01', 'N23E348537-01', 'N23E348538-01', 'N23E349754-01', 'N23E351779-01', 'N23E355336-01', 'N23E361817-01', 'N23E362215-01', 'N23E362217-01', 'N23E366018-01', 'N23E369400-01', 'N23E377142-01'
A4: N23E323394-01 | B4: =_xlfn.CONCAT(B3&", '"&A4&"'") -> 'N23E319256-01', 'N23E320726-01', 'N23E323394-01'
A5: N23E326686-01 | B5: =_xlfn.CONCAT(B4&", '"&A5&"'") -> 'N23E319256-01', 'N23E320726-01', 'N23E323394-01', 'N23E326686-01'
A6: N23E329502-01 | B6: =_xlfn.CONCAT(B5&", '"&A6&"'") -> 'N23E319256-01', 'N23E320726-01', 'N23E323394-01', 'N23E326686-01', 'N23E329502-01'
A7: N23E329726-01 | B7: =_xlfn.CONCAT(B6&", '"&A7&"'") -> 'N23E319256-01', 'N23E320726-01', 'N23E323394-01', 'N23E326686-01', 'N23E329502-01', 'N23E329726-01'
A8: N23E334600-01 | B8: =_xlfn.CONCAT(B7&", '"&A8&"'") -> 'N23E319256-01', 'N23E320726-01', 'N23E323394-01', 'N23E326686-01', 'N23E329502-01', 'N23E329726-01', 'N23E334600-01'
A9: N23E335682-01 | B9: =_xlfn.CONCAT(B8&", '"&A9&"'") -> 'N23E319256-01', 'N23E320726-01', 'N23E323394-01', 'N23E326686-01', 'N23E329502-01', 'N23E329726-01', 'N23E334600-01', 'N23E335682-01'
A10: N23E335698-01 | B10: =_xlfn.CONCAT(B9&", '"&A10&"'") -> 'N23E319256-01', 'N23E320726-01', 'N23E323394-01', 'N23E326686-01', 'N23E329502-01', 'N23E329726-01', 'N23E334600-01', 'N23E335682-01', 'N23E335698-01'
A11: N23E348534-01 | B11: =_xlfn.CONCAT(B10&", '"&A11&"'") -> 'N23E319256-01', 'N23E320726-01', 'N23E323394-01', 'N23E326686-01', 'N23E329502-01', 'N23E329726-01', 'N23E334600-01', 'N23E335682-01', 'N23E335698-01', 'N23E348534-01'
A12: N23E348537-01 | B12: =_xlfn.CONCAT(B11&", '"&A12&"'") -> 'N23E319256-01', 'N23E320726-01', 'N23E323394-01', 'N23E326686-01', 'N23E329502-01', 'N23E329726-01', 'N23E334600-01', 'N23E335682-01', 'N23E335698-01', 'N23E348534-01', 'N23E348537-01'
A13: N23E348538-01 | B13: =_xlfn.CONCAT(B12&", '"&A13&"'") -> 'N23E319256-01', 'N23E320726-01', 'N23E323394-01', 'N23E326686-01', 'N23E329502-01', 'N23E329726-01', 'N23E334600-01', 'N23E335682-01', 'N23E335698-01', 'N23E348534-01', 'N23E348537-01', 'N23E348538-01'
A14: N23E349754-01 | B14: =_xlfn.CONCAT(B13&", '"&A14&"'") -> 'N23E319256-01', 'N23E320726-01', 'N23E323394-01', 'N23E326686-01', 'N23E329502-01', 'N23E329726-01', 'N23E334600-01', 'N23E335682-01', 'N23E335698-01', 'N23E348534-01', 'N23E348537-01', 'N23E348538-01', 'N23E349754-01'
A15: N23E351779-01 | B15: =_xlfn.CONCAT(B14&", '"&A15&"'") -> 'N23E319256-01', 'N23E320726-01', 'N23E323394-01', 'N23E326686-01', 'N23E329502-01', 'N23E329726-01', 'N23E334600-01', 'N23E335682-01', 'N23E335698-01', 'N23E348534-01', 'N23E348537-01', 'N23E348538-01', 'N23E349754-01', 'N23E351779-01'
... A22: N23E377142-01 | B22: =_xlfn.CONCAT(B21&", '"&A22&"'") -> 'N23E319256-01', 'N23E320726-01', 'N23E323394-01', 'N23E326686-01', 'N23E329502-01', 'N23E329726-01', 'N23E334600-01', 'N23E335682-01', 'N23E335698-01', 'N23E348534-01', 'N23E348537-01', 'N23E348538-01', 'N23E349754-01', 'N23E351779-01', 'N23E355336-01', 'N23E361817-01', 'N23E362215-01', 'N23E362217-01', 'N23E366018-01', 'N23E369400-01', 'N23E377142-01'
B23: =_xlfn.CONCAT(B22&", '"&A23&"'") -> 'N23E319256-01', 'N23E320726-01', 'N23E323394-01', 'N23E326686-01', 'N23E329502-01', 'N23E329726-01', 'N23E334600-01', 'N23E335682-01', 'N23E335698-01', 'N23E348534-01', 'N23E348537-01', 'N23E348538-01', 'N23E349754-01', 'N23E351779-01', 'N23E355336-01', 'N23E361817-01', 'N23E362215-01', 'N23E362217-01', 'N23E366018-01', 'N23E369400-01', 'N23E377142-01', ''
B24: =_xlfn.CONCAT(B23&", '"&A24&"'") -> 'N23E319256-01', 'N23E320726-01', 'N23E323394-01', 'N23E326686-01', 'N23E329502-01', 'N23E329726-01', 'N23E334600-01', 'N23E335682-01', 'N23E335698-01', 'N23E348534-01', 'N23E348537-01', 'N23E348538-01', 'N23E349754-01', 'N23E351779-01', 'N23E355336-01', 'N23E361817-01', 'N23E362215-01', 'N23E362217-01', 'N23E366018-01', 'N23E369400-01', 'N23E377142-01', '', ''
B25: =_xlfn.CONCAT(B24&", '"&A25&"'") -> 'N23E319256-01', 'N23E320726-01', 'N23E323394-01', 'N23E326686-01', 'N23E329502-01', 'N23E329726-01', 'N23E334600-01', 'N23E335682-01', 'N23E335698-01', 'N23E348534-01', 'N23E348537-01', 'N23E348538-01', 'N23E349754-01', 'N23E351779-01', 'N23E355336-01', 'N23E361817-01', 'N23E362215-01', 'N23E362217-01', 'N23E366018-01', 'N23E369400-01', 'N23E377142-01', '', '', ''
B26: =_xlfn.CONCAT(B25&", '"&A26&"'") -> 'N23E319256-01', 'N23E320726-01', 'N23E323394-01', 'N23E326686-01', 'N23E329502-01', 'N23E329726-01', 'N23E334600-01', 'N23E335682-01', 'N23E335698-01', 'N23E348534-01', 'N23E348537-01', 'N23E348538-01', 'N23E349754-01', 'N23E351779-01', 'N23E355336-01', 'N23E361817-01', 'N23E362215-01', 'N23E362217-01', 'N23E366018-01', 'N23E369400-01', 'N23E377142-01', '', '', '', ''
B27: =_xlfn.CONCAT(B26&", '"&A27&"'") -> 'N23E319256-01', 'N23E320726-01', 'N23E323394-01', 'N23E326686-01', 'N23E329502-01', 'N23E329726-01', 'N23E334600-01', 'N23E335682-01', 'N23E335698-01', 'N23E348534-01', 'N23E348537-01', 'N23E348538-01', 'N23E349754-01', 'N23E351779-01', 'N23E355336-01', 'N23E361817-01', 'N23E362215-01', 'N23E362217-01', 'N23E366018-01', 'N23E369400-01', 'N23E377142-01', '', '', '', '', ''
B28: =_xlfn.CONCAT(B27&", '"&A28&"'") -> 'N23E319256-01', 'N23E320726-01', 'N23E323394-01', 'N23E326686-01', 'N23E329502-01', 'N23E329726-01', 'N23E334600-01', 'N23E335682-01', 'N23E335698-01', 'N23E348534-01', 'N23E348537-01', 'N23E348538-01', 'N23E349754-01', 'N23E351779-01', 'N23E355336-01', 'N23E361817-01', 'N23E362215-01', 'N23E362217-01', 'N23E366018-01', 'N23E369400-01', 'N23E377142-01', '', '', '', '', '', ''
B29: =_xlfn.CONCAT(B28&", '"&A29&"'") -> 'N23E319256-01', 'N23E320726-01', 'N23E323394-01', 'N23E326686-01', 'N23E329502-01', 'N23E329726-01', 'N23E334600-01', 'N23E335682-01', 'N23E335698-01', 'N23E348534-01', 'N23E348537-01', 'N23E348538-01', 'N23E349754-01', 'N23E351779-01', 'N23E355336-01', 'N23E361817-01', 'N23E362215-01', 'N23E362217-01', 'N23E366018-01', 'N23E369400-01', 'N23E377142-01', '', '', '', '', '', '', ''
B30: =_xlfn.CONCAT(B29&", '"&A30&"'") -> 'N23E319256-01', 'N23E320726-01', 'N23E323394-01', 'N23E326686-01', 'N23E329502-01', 'N23E329726-01', 'N23E334600-01', 'N23E335682-01', 'N23E335698-01', 'N23E348534-01', 'N23E348537-01', 'N23E348538-01', 'N23E349754-01', 'N23E351779-01', 'N23E355336-01', 'N23E361817-01', 'N23E362215-01', 'N23E362217-01', 'N23E366018-01', 'N23E369400-01', 'N23E377142-01', '', '', '', '', '', '', '', ''
B31: =_xlfn.CONCAT(B30&", '"&A31&"'") -> 'N23E319256-01', 'N23E320726-01', 'N23E323394-01', 'N23E326686-01', 'N23E329502-01', 'N23E329726-01', 'N23E334600-01', 'N23E335682-01', 'N23E335698-01', 'N23E348534-01', 'N23E348537-01', 'N23E348538-01', 'N23E349754-01', 'N23E351779-01', 'N23E355336-01', 'N23E361817-01', 'N23E362215-01', 'N23E362217-01', 'N23E366018-01', 'N23E369400-01', 'N23E377142-01', '', '', '', '', '', '', '', '', ''
B32: =_xlfn.CONCAT(B31&", '"&A32&"'") -> 'N23E319256-01', 'N23E320726-01', 'N23E323394-01', 'N23E326686-01', 'N23E329502-01', 'N23E329726-01', 'N23E334600-01', 'N23E335682-01', 'N23E335698-01', 'N23E348534-01', 'N23E348537-01', 'N23E348538-01', 'N23E349754-01', 'N23E351779-01', 'N23E355336-01', 'N23E361817-01', 'N23E362215-01', 'N23E362217-01', 'N23E366018-01', 'N23E369400-01', 'N23E377142-01', '', '', '', '', '', '', '', '', '', ''
B33: =_xlfn.CONCAT(B32&", '"&A33&"'") -> 'N23E319256-01', 'N23E320726-01', 'N23E323394-01', 'N23E326686-01', 'N23E329502-01', 'N23E329726-01', 'N23E334600-01', 'N23E335682-01', 'N23E335698-01', 'N23E348534-01', 'N23E348537-01', 'N23E348538-01', 'N23E349754-01', 'N23E351779-01', 'N23E355336-01', 'N23E361817-01', 'N23E362215-01', 'N23E362217-01', 'N23E366018-01', 'N23E369400-01', 'N23E377142-01', '', '', '', '', '', '', '', '', '', '', ''
B34: =_xlfn.CONCAT(B33&", '"&A34&"'") -> 'N23E319256-01', 'N23E320726-01', 'N23E323394-01', 'N23E326686-01', 'N23E329502-01', 'N23E329726-01', 'N23E334600-01', 'N23E335682-01', 'N23E335698-01', 'N23E348534-01', 'N23E348537-01', 'N23E348538-01', 'N23E349754-01', 'N23E351779-01', 'N23E355336-01', 'N23E361817-01', 'N23E362215-01', 'N23E362217-01', 'N23E366018-01', 'N23E369400-01', 'N23E377142-01', '', '', '', '', '', '', '', '', '', '', '', ''
... B501: =_xlfn.CONCAT(B500&", '"&A501&"'") -> 'N23E319256-01', 'N23E320726-01', 'N23E323394-01', 'N23E326686-01', 'N23E329502-01', 'N23E329726-01', 'N23E334600-01', 'N23E335682-01', 'N23E335698-01', 'N23E348534-01', 'N23E348537-01', 'N23E348538-01', 'N23E349754-01', 'N23E351779-01', 'N23E355336-01', 'N23E361817-01', 'N23E362215-01', 'N23E362217-01', 'N23E366018-01', 'N23E369400-01', 'N23E377142-01', '', '', '', '', '', '', '', '', '', '', '', '', '', '', '', '', '', '', '', '', '', '', '', '', '', '', '', '', '', '', '', '', '', '', '', '', '', '', '', '', '', '', '', '', '', '', '', '', '', '', '', '', '', '', '', '', '', '', '', '', '', '', '', '', '', '', '', '', '', '', '', '', '', '', '', '', '', '', '', '', '', '', '', '', '', '', '', '', '', '', '', '', '', '', '', '', '', '', '', '', '', '', '', '', '', '', '', '', '', '', '', '', '', '', '', '', '', '', '', '', '', '', '', '', '', '', '', '', '', '', '', '', '', '', '', '', '', '', '', '', '', '', '', '', '', '', '', '', '', '', '', '', '', '', '', '', '', '', '', '', '', '', '', '', '', '', '', '', '', '', '', '', '', '', '', '', '', '', '', '', '', '', '', '', '', '', '', '', '', '', '', '', '', '', '', '', '', '', '', '', '', '', '', '', '', '', '', '', '', '', '', '', '', '', '', '', '', '', '', '', '', '', '', '', '', '', '', '', '', '', '', '', '', '', '', '', '', '', '', '', '', '', '', '', '', '', '', '', '', '', '', '', '', '', '', '', '', '', '', '', '', '', '', '', '', '', '', '', '', '', '', '', '', '', '', '', '', '', '', '', '', '', '', '', '', '', '', '', '', '', '', '', '', '', '', '', '', '', '', '', '', '', '', '', '', '', '', '', '', '', '', '', '', '', '', '', '', '', '', '', '', '', '', '', '', '', '', '', '', '', '', '', '', '', '', '', '', '', '', '', '', '', '', '', '', '', '', '', '', '', '', '', '', '', '', '', '', '', '', '', '', '', '', '', '', '', '', '', '', '', '', '', '', '', '', '', '', '', '', '', '', '', '', '', '', '', '', '', '', '', '', '', '', '', '', '', '', '', '', '', '', '', '', '', '', '', '', '', '', '', '', '', '', '', '', '', '', '', '', '', '', '', '', '', '', '', '', '', '', '', '', '', '', '', '', '', '', '', '', '', '', '', '', '', '', '', '', '', '', '', '', '', '', '', '', '', '', '', '', '', '', '', '', '', '', '', '', '', '', '', '', '', '', '', '', '', '', '', ''
